BEGIN:VCALENDAR
VERSION:2.0
PRODID:-//College Gateway - ECPv6.15.20//NONSGML v1.0//EN
CALSCALE:GREGORIAN
METHOD:PUBLISH
X-WR-CALNAME:College Gateway
X-ORIGINAL-URL:https://gateway.trios.com
X-WR-CALDESC:Events for College Gateway
REFRESH-INTERVAL;VALUE=DURATION:PT1H
X-Robots-Tag:noindex
X-PUBLISHED-TTL:PT1H
BEGIN:VTIMEZONE
TZID:America/New_York
BEGIN:DAYLIGHT
TZOFFSETFROM:-0500
TZOFFSETTO:-0400
TZNAME:EDT
DTSTART:20250309T070000
END:DAYLIGHT
BEGIN:STANDARD
TZOFFSETFROM:-0400
TZOFFSETTO:-0500
TZNAME:EST
DTSTART:20251102T060000
END:STANDARD
BEGIN:DAYLIGHT
TZOFFSETFROM:-0500
TZOFFSETTO:-0400
TZNAME:EDT
DTSTART:20260308T070000
END:DAYLIGHT
BEGIN:STANDARD
TZOFFSETFROM:-0400
TZOFFSETTO:-0500
TZNAME:EST
DTSTART:20261101T060000
END:STANDARD
BEGIN:DAYLIGHT
TZOFFSETFROM:-0500
TZOFFSETTO:-0400
TZNAME:EDT
DTSTART:20270314T070000
END:DAYLIGHT
BEGIN:STANDARD
TZOFFSETFROM:-0400
TZOFFSETTO:-0500
TZNAME:EST
DTSTART:20271107T060000
END:STANDARD
END:VTIMEZONE
BEGIN:VTIMEZONE
TZID:America/Halifax
BEGIN:DAYLIGHT
TZOFFSETFROM:-0400
TZOFFSETTO:-0300
TZNAME:ADT
DTSTART:20250309T060000
END:DAYLIGHT
BEGIN:STANDARD
TZOFFSETFROM:-0300
TZOFFSETTO:-0400
TZNAME:AST
DTSTART:20251102T050000
END:STANDARD
BEGIN:DAYLIGHT
TZOFFSETFROM:-0400
TZOFFSETTO:-0300
TZNAME:ADT
DTSTART:20260308T060000
END:DAYLIGHT
BEGIN:STANDARD
TZOFFSETFROM:-0300
TZOFFSETTO:-0400
TZNAME:AST
DTSTART:20261101T050000
END:STANDARD
BEGIN:DAYLIGHT
TZOFFSETFROM:-0400
TZOFFSETTO:-0300
TZNAME:ADT
DTSTART:20270314T060000
END:DAYLIGHT
BEGIN:STANDARD
TZOFFSETFROM:-0300
TZOFFSETTO:-0400
TZNAME:AST
DTSTART:20271107T050000
END:STANDARD
END:VTIMEZONE
BEGIN:VTIMEZONE
TZID:America/Toronto
BEGIN:DAYLIGHT
TZOFFSETFROM:-0500
TZOFFSETTO:-0400
TZNAME:EDT
DTSTART:20250309T070000
END:DAYLIGHT
BEGIN:STANDARD
TZOFFSETFROM:-0400
TZOFFSETTO:-0500
TZNAME:EST
DTSTART:20251102T060000
END:STANDARD
BEGIN:DAYLIGHT
TZOFFSETFROM:-0500
TZOFFSETTO:-0400
TZNAME:EDT
DTSTART:20260308T070000
END:DAYLIGHT
BEGIN:STANDARD
TZOFFSETFROM:-0400
TZOFFSETTO:-0500
TZNAME:EST
DTSTART:20261101T060000
END:STANDARD
BEGIN:DAYLIGHT
TZOFFSETFROM:-0500
TZOFFSETTO:-0400
TZNAME:EDT
DTSTART:20270314T070000
END:DAYLIGHT
BEGIN:STANDARD
TZOFFSETFROM:-0400
TZOFFSETTO:-0500
TZNAME:EST
DTSTART:20271107T060000
END:STANDARD
END:VTIMEZONE
BEGIN:VEVENT
DTSTART;TZID=America/New_York:20260617T120000
DTEND;TZID=America/New_York:20260617T130000
DTSTAMP:20260421T213325
CREATED:20260114T161712Z
LAST-MODIFIED:20260114T161713Z
UID:10016833-1781697600-1781701200@gateway.trios.com
SUMMARY:JOB SEARCH STRATEGIES
DESCRIPTION:It is written that 80% of all jobs are hidden.  Learn through this workshop where to look and how to follow up after you apply.  This is a tremendously important skill to master in this challenging labour market.
URL:https://gateway.trios.com/event/job-search-strategies/2026-06-17/
ORGANIZER;CN="Nancy Vanner":MAILTO:Nancy.Vanner@trios.com
END:VEVENT
BEGIN:VEVENT
DTSTART;TZID=America/New_York:20260617T103000
DTEND;TZID=America/New_York:20260617T110000
DTSTAMP:20260421T213325
CREATED:20260324T174532Z
LAST-MODIFIED:20260324T174533Z
UID:10018446-1781692200-1781694000@gateway.trios.com
SUMMARY:Student Assembly
DESCRIPTION:
URL:https://gateway.trios.com/event/student-assembly-6/
END:VEVENT
BEGIN:VEVENT
DTSTART;TZID=America/New_York:20260616T121500
DTEND;TZID=America/New_York:20260616T124500
DTSTAMP:20260421T213325
CREATED:20260421T193454Z
LAST-MODIFIED:20260421T222949Z
UID:10019760-1781612100-1781613900@gateway.trios.com
SUMMARY:triOS & Eastern Remote Event | Virtual Hike
DESCRIPTION:Join us for a refreshing Virtual Hike event where we come together to explore scenic routes\, enjoy gentle movement\, and reconnect with nature – no matter where we’re located. Follow along at your own pace\, take a mindful break from the day\, and enjoy the shared experience of staying active and energized\, all from the comfort of your own surroundings. \n\n\n\n\nClick to Join via MS Teams
URL:https://gateway.trios.com/event/trios-eastern-remote-event-virtual-hike/
CATEGORIES:Eastern Remote,triOS & Eastern Remote,triOS Event,triOS Remote
ATTACH;FMTTYPE=image/png:https://gateway.trios.com/wp-content/uploads/2026/04/Virtual-Hike.png
END:VEVENT
BEGIN:VEVENT
DTSTART;TZID=America/New_York:20260616T120000
DTEND;TZID=America/New_York:20260616T130000
DTSTAMP:20260421T213325
CREATED:20260114T160023Z
LAST-MODIFIED:20260114T160024Z
UID:10016713-1781611200-1781614800@gateway.trios.com
SUMMARY:Building IT Work Experience
DESCRIPTION:It is very important to start building IT work experience (both paid and volunteer) in order to get to an experience level that will attract employers and better your chances of finding ongoing work.  This workshop discusses the different ways and resources to use to be able to obtain both volunteer and short-term paid gig work in the IT field.
URL:https://gateway.trios.com/event/building-it-work-experience/2026-06-16/
ORGANIZER;CN="Nancy Vanner":MAILTO:Nancy.Vanner@trios.com
END:VEVENT
BEGIN:VEVENT
DTSTART;TZID=America/New_York:20260615T121500
DTEND;TZID=America/New_York:20260615T124500
DTSTAMP:20260421T213325
CREATED:20260421T193103Z
LAST-MODIFIED:20260421T223023Z
UID:10019759-1781525700-1781527500@gateway.trios.com
SUMMARY:triOS Remote Event | Stay Healthy at School
DESCRIPTION:All triOS and Eastern College students can access Stay Healthy at School Program\, a mental wellness phone line and other valuable resources. This confidential service is available 24/7\, in various languages. \n\n\n\n\nClick to Join via MS Teams
URL:https://gateway.trios.com/event/trios-remote-event-stay-healthy-at-school-28/
CATEGORIES:Eastern Remote,Information Session,triOS & Eastern Remote,triOS Event,triOS Remote
ATTACH;FMTTYPE=image/png:https://gateway.trios.com/wp-content/uploads/2026/01/Stay-Healthy-at-School.png
END:VEVENT
BEGIN:VEVENT
DTSTART;TZID=America/Halifax:20260615T080000
DTEND;TZID=America/Halifax:20260615T090000
DTSTAMP:20260421T213325
CREATED:20260312T131221Z
LAST-MODIFIED:20260312T131222Z
UID:10018099-1781510400-1781514000@gateway.trios.com
SUMMARY:Eastern College Remote Onboarding
DESCRIPTION:Get Ready for Your First Day of Remote Learning with Eastern College! \n\n\n\nJoin your Student Experience Coordinator (SEC) for a helpful session designed to get you set up for success. \n\n\n\n\nConnect with your classmates and start building your learning community.\n\n\n\nMeet your Student Experience Coordinator\, Curtis Steeves\, who will guide you through the process\n\n\n\nExplore the online platforms you’ll be using throughout your studies\n\n\n\nPick up some simple setup tips to make your first days smooth and stress-free\n\n\n\n\nKeep an eye on your email—you’ll find a booking link from your SEC\, Curtis Steeves. Be sure to reserve your spot!
URL:https://gateway.trios.com/event/eastern-college-remote-onboarding-44/2026-06-15/
CATEGORIES:Eastern Remote,Student Services Events
ATTACH;FMTTYPE=image/png:https://gateway.trios.com/wp-content/uploads/2025/11/ECR-Onboarding.png
END:VEVENT
BEGIN:VEVENT
DTSTART;TZID=America/Halifax:20260612T140000
DTEND;TZID=America/Halifax:20260612T150000
DTSTAMP:20260421T213325
CREATED:20260312T131139Z
LAST-MODIFIED:20260312T131140Z
UID:10017840-1781272800-1781276400@gateway.trios.com
SUMMARY:Eastern College Remote Onboarding
DESCRIPTION:Get Ready for Your First Day of Remote Learning with Eastern College! \n\n\n\nJoin your Student Experience Coordinator (SEC) for a helpful session designed to get you set up for success. \n\n\n\nConnect with your classmates and start building your learning community. \n\n\n\n\nMeet your Student Experience Coordinator\, Curtis Steeves\, who will guide you through the process\n\n\n\nExplore the online platforms you’ll be using throughout your studies\n\n\n\nPick up some simple setup tips to make your first days smooth and stress-free\n\n\n\n\nKeep an eye on your email—you’ll find a booking link from your SEC\, Curtis Steeves. Be sure to reserve your spot!
URL:https://gateway.trios.com/event/eastern-college-remote-onboarding-43/2026-06-12/
CATEGORIES:Eastern Remote,Student Services Events
ATTACH;FMTTYPE=image/png:https://gateway.trios.com/wp-content/uploads/2025/11/ECR-Onboarding.png
END:VEVENT
BEGIN:VEVENT
DTSTART;TZID=America/Toronto:20260611T131500
DTEND;TZID=America/Toronto:20260611T141500
DTSTAMP:20260421T213325
CREATED:20250117T164419Z
LAST-MODIFIED:20250117T171016Z
UID:10003830-1781183700-1781187300@gateway.trios.com
SUMMARY:triOS & Eastern - MS Office Tutoring & Review
DESCRIPTION:Join Farah Shaife (Student Experience Coordinator) to help you with challenges with MS Office modules.
URL:https://gateway.trios.com/event/trios-eastern-ms-office-tutoring-review/2026-06-11/
END:VEVENT
BEGIN:VEVENT
DTSTART;TZID=America/New_York:20260611T121500
DTEND;TZID=America/New_York:20260611T124500
DTSTAMP:20260421T213325
CREATED:20260421T192707Z
LAST-MODIFIED:20260421T223101Z
UID:10019758-1781180100-1781181900@gateway.trios.com
SUMMARY:triOS & Eastern Remote Event | Movie Trivia
DESCRIPTION:Join us for an entertaining Movie Trivia event where film lovers can put their knowledge to the test across classic movies\, blockbuster favourites\, iconic scenes\, and legendary actors. Enjoy a fun mix of questions\, friendly competition\, and plenty of cinematic throwbacks – all while playing and connecting with others from the comfort of your own home. \n\n\n\n\nClick to Join via MS Teams
URL:https://gateway.trios.com/event/trios-eastern-remote-event-movie-trivia-2/
CATEGORIES:Eastern Remote,triOS & Eastern Remote,triOS Event,triOS Remote
ATTACH;FMTTYPE=image/png:https://gateway.trios.com/wp-content/uploads/2026/04/Movie-Trivia.png
END:VEVENT
BEGIN:VEVENT
DTSTART;TZID=America/Halifax:20260611T120000
DTEND;TZID=America/Halifax:20260611T130000
DTSTAMP:20260421T213325
CREATED:20260312T131031Z
LAST-MODIFIED:20260312T131032Z
UID:10017581-1781179200-1781182800@gateway.trios.com
SUMMARY:Eastern College Remote Onboarding
DESCRIPTION:Get Ready for Your First Day of Remote Learning with Eastern College! \n\n\n\nJoin your Student Experience Coordinator (SEC) for a helpful session designed to get you set up for success. \n\n\n\n\nConnect with your classmates and start building your learning community.\n\n\n\nMeet your Student Experience Coordinator\, Curtis Steeves\, who will guide you through the process\n\n\n\nExplore the online platforms you’ll be using throughout your studies\n\n\n\nPick up some simple setup tips to make your first days smooth and stress-free\n\n\n\n\nKeep an eye on your email—you’ll find a booking link from your SEC\, Curtis Steeves. Be sure to reserve your spot!
URL:https://gateway.trios.com/event/eastern-college-remote-onboarding-42/2026-06-11/
CATEGORIES:Eastern Remote,Student Services Events
ATTACH;FMTTYPE=image/png:https://gateway.trios.com/wp-content/uploads/2025/11/ECR-Onboarding.png
END:VEVENT
BEGIN:VEVENT
DTSTART;TZID=America/New_York:20260610T121500
DTEND;TZID=America/New_York:20260610T124500
DTSTAMP:20260421T213325
CREATED:20260421T192346Z
LAST-MODIFIED:20260421T223138Z
UID:10019757-1781093700-1781095500@gateway.trios.com
SUMMARY:triOS & Eastern Remote Event | Pop Artist Trivia
DESCRIPTION:Join us for a high-energy Pop Music Trivia event where you can test your knowledge of chart-topping hits\, iconic artists\, and unforgettable pop culture moments. From throwback classic to today’s biggest anthems\, enjoy lively competition\, great tunes\, and lots of fun – all while playing online from wherever you are. \n\n\n\n\nClick to Join via MS Teams
URL:https://gateway.trios.com/event/trios-eastern-remote-event-pop-artist-trivia/
CATEGORIES:Eastern Remote,triOS & Eastern Remote,triOS Event,triOS Remote
ATTACH;FMTTYPE=image/png:https://gateway.trios.com/wp-content/uploads/2026/04/Pop-Artist-Trivia.png
END:VEVENT
BEGIN:VEVENT
DTSTART;TZID=America/New_York:20260610T120000
DTEND;TZID=America/New_York:20260610T130000
DTSTAMP:20260421T213325
CREATED:20260118T184919Z
LAST-MODIFIED:20260118T184919Z
UID:10016901-1781092800-1781096400@gateway.trios.com
SUMMARY:Massage Matters
DESCRIPTION:These sessions are designed to foster a sense of community\, address your concerns\, and provide a platform for valuable problem-solving\, experience sharing\, and improvement discussions.
URL:https://gateway.trios.com/event/massage-matters-11/
LOCATION:Trios College\, 60 Peel Center Drive\, Brampton\, Trios College\, Bramlea City Centre\, Brampton\, Ontario
END:VEVENT
BEGIN:VEVENT
DTSTART;TZID=America/New_York:20260610T113000
DTEND;TZID=America/New_York:20260610T123000
DTSTAMP:20260421T213325
CREATED:20250709T143740Z
LAST-MODIFIED:20250709T143740Z
UID:10007863-1781091000-1781094600@gateway.trios.com
SUMMARY:Toronto Campus:  Massage Matters
DESCRIPTION:LET’S TALK EVERYTHING “MASSAGE”.  ONCE PER MONTH WE WILL HOLD A MONTHLY EVENT INVOLVING MASSAGE STUDENTS\, INSTRUCTORS\, GUEST SPEAKERS.  THIS IS AN OPPORTUNITY TO COLLECTIVELY HAVE INSIGHTFUL CONVERSATION\, LEARN AND TROUBLESHOOT!! WE LOOK FORWARD TO SEEING YOU THERE!
URL:https://gateway.trios.com/event/toronto-campus-massage-matters-2/2026-06-10/
LOCATION:425 Bloor Street East\, Toronto\, 425\, Toronto\, Ontario\, M4W 3R4
GEO:43.6722834;-79.3765617
X-APPLE-STRUCTURED-LOCATION;VALUE=URI;X-ADDRESS=425 Bloor Street East Toronto 425 Toronto Ontario M4W 3R4;X-APPLE-RADIUS=500;X-TITLE=425:geo:-79.3765617,43.6722834
END:VEVENT
BEGIN:VEVENT
DTSTART;TZID=America/New_York:20260610T113000
DTEND;TZID=America/New_York:20260610T120000
DTSTAMP:20260421T213325
CREATED:20260107T220822Z
LAST-MODIFIED:20260107T221110Z
UID:10016662-1781091000-1781092800@gateway.trios.com
SUMMARY:Mind Reader
DESCRIPTION:Mind Reader\n\n\n\n\n\nGet ready for a fun and interactive Mind Reader experience! This engaging activity will feature lighthearted mentalism-style games designed to surprise\, entertain\, and spark curiosity.
URL:https://gateway.trios.com/event/12579/
END:VEVENT
BEGIN:VEVENT
DTSTART;TZID=America/New_York:20260609T121500
DTEND;TZID=America/New_York:20260609T124500
DTSTAMP:20260421T213325
CREATED:20260421T192032Z
LAST-MODIFIED:20260421T223209Z
UID:10019756-1781007300-1781009100@gateway.trios.com
SUMMARY:triOS & Eastern Remote Event | Friends Trivia
DESCRIPTION:Join us for a fun and nostalgic Friend’s trivia event where fans of the beloved show can test their knowledge of memorable episodes\, iconic quotes\, and favourite characters. Relive the laughs\, friendly rivalries\, and unforgettable moments from Central Perk while enjoying light-hearted competition and great conversation – all from the comfort of your own space. \n\n\n\n\nClick to Join via MS Teams
URL:https://gateway.trios.com/event/trios-eastern-remote-event-friends-trivia/
CATEGORIES:Eastern Remote,triOS & Eastern Remote,triOS Event,triOS Remote
ATTACH;FMTTYPE=image/png:https://gateway.trios.com/wp-content/uploads/2026/04/Friends-Trivia.png
END:VEVENT
BEGIN:VEVENT
DTSTART;TZID=America/New_York:20260609T103000
DTEND;TZID=America/New_York:20260609T113000
DTSTAMP:20260421T213325
CREATED:20260324T174401Z
LAST-MODIFIED:20260324T174401Z
UID:10018445-1781001000-1781004600@gateway.trios.com
SUMMARY:Paralegal Pulse
DESCRIPTION:
URL:https://gateway.trios.com/event/paralegal-pulse-2/
ATTACH;FMTTYPE=image/jpeg:https://gateway.trios.com/wp-content/uploads/2026/03/shared-image-2026-03-24T121052.819.jpg
END:VEVENT
BEGIN:VEVENT
DTSTART;TZID=America/New_York:20260608T121500
DTEND;TZID=America/New_York:20260608T124500
DTSTAMP:20260421T213325
CREATED:20260421T191709Z
LAST-MODIFIED:20260421T223304Z
UID:10019755-1780920900-1780922700@gateway.trios.com
SUMMARY:triOS Remote Event | Stay Healthy at School
DESCRIPTION:All triOS and Eastern College students can access Stay Healthy at School Program\, a mental wellness phone line and other valuable resources. This confidential service is available 24/7\, in various languages. \n\n\n\n\nClick to Join via MS Teams
URL:https://gateway.trios.com/event/trios-remote-event-stay-healthy-at-school-27/
CATEGORIES:triOS Event,triOS Remote
ATTACH;FMTTYPE=image/png:https://gateway.trios.com/wp-content/uploads/2026/01/Stay-Healthy-at-School.png
END:VEVENT
BEGIN:VEVENT
DTSTART;TZID=America/Halifax:20260608T080000
DTEND;TZID=America/Halifax:20260608T090000
DTSTAMP:20260421T213325
CREATED:20260312T131221Z
LAST-MODIFIED:20260312T131222Z
UID:10018098-1780905600-1780909200@gateway.trios.com
SUMMARY:Eastern College Remote Onboarding
DESCRIPTION:Get Ready for Your First Day of Remote Learning with Eastern College! \n\n\n\nJoin your Student Experience Coordinator (SEC) for a helpful session designed to get you set up for success. \n\n\n\n\nConnect with your classmates and start building your learning community.\n\n\n\nMeet your Student Experience Coordinator\, Curtis Steeves\, who will guide you through the process\n\n\n\nExplore the online platforms you’ll be using throughout your studies\n\n\n\nPick up some simple setup tips to make your first days smooth and stress-free\n\n\n\n\nKeep an eye on your email—you’ll find a booking link from your SEC\, Curtis Steeves. Be sure to reserve your spot!
URL:https://gateway.trios.com/event/eastern-college-remote-onboarding-44/2026-06-08/
CATEGORIES:Eastern Remote,Student Services Events
ATTACH;FMTTYPE=image/png:https://gateway.trios.com/wp-content/uploads/2025/11/ECR-Onboarding.png
END:VEVENT
BEGIN:VEVENT
DTSTART;TZID=America/New_York:20260606T103000
DTEND;TZID=America/New_York:20260606T110000
DTSTAMP:20260421T213325
CREATED:20260324T173708Z
LAST-MODIFIED:20260324T173708Z
UID:10018444-1780741800-1780743600@gateway.trios.com
SUMMARY:Acu Connect
DESCRIPTION:
URL:https://gateway.trios.com/event/acu-connect-7/
END:VEVENT
BEGIN:VEVENT
DTSTART;TZID=America/Halifax:20260605T140000
DTEND;TZID=America/Halifax:20260605T150000
DTSTAMP:20260421T213325
CREATED:20260312T131139Z
LAST-MODIFIED:20260312T131140Z
UID:10017839-1780668000-1780671600@gateway.trios.com
SUMMARY:Eastern College Remote Onboarding
DESCRIPTION:Get Ready for Your First Day of Remote Learning with Eastern College! \n\n\n\nJoin your Student Experience Coordinator (SEC) for a helpful session designed to get you set up for success. \n\n\n\nConnect with your classmates and start building your learning community. \n\n\n\n\nMeet your Student Experience Coordinator\, Curtis Steeves\, who will guide you through the process\n\n\n\nExplore the online platforms you’ll be using throughout your studies\n\n\n\nPick up some simple setup tips to make your first days smooth and stress-free\n\n\n\n\nKeep an eye on your email—you’ll find a booking link from your SEC\, Curtis Steeves. Be sure to reserve your spot!
URL:https://gateway.trios.com/event/eastern-college-remote-onboarding-43/2026-06-05/
CATEGORIES:Eastern Remote,Student Services Events
ATTACH;FMTTYPE=image/png:https://gateway.trios.com/wp-content/uploads/2025/11/ECR-Onboarding.png
END:VEVENT
BEGIN:VEVENT
DTSTART;TZID=America/Toronto:20260604T131500
DTEND;TZID=America/Toronto:20260604T141500
DTSTAMP:20260421T213325
CREATED:20250117T164419Z
LAST-MODIFIED:20250117T171016Z
UID:10003829-1780578900-1780582500@gateway.trios.com
SUMMARY:triOS & Eastern - MS Office Tutoring & Review
DESCRIPTION:Join Farah Shaife (Student Experience Coordinator) to help you with challenges with MS Office modules.
URL:https://gateway.trios.com/event/trios-eastern-ms-office-tutoring-review/2026-06-04/
END:VEVENT
BEGIN:VEVENT
DTSTART;TZID=America/Halifax:20260604T120000
DTEND;TZID=America/Halifax:20260604T130000
DTSTAMP:20260421T213325
CREATED:20260312T131031Z
LAST-MODIFIED:20260312T131032Z
UID:10017580-1780574400-1780578000@gateway.trios.com
SUMMARY:Eastern College Remote Onboarding
DESCRIPTION:Get Ready for Your First Day of Remote Learning with Eastern College! \n\n\n\nJoin your Student Experience Coordinator (SEC) for a helpful session designed to get you set up for success. \n\n\n\n\nConnect with your classmates and start building your learning community.\n\n\n\nMeet your Student Experience Coordinator\, Curtis Steeves\, who will guide you through the process\n\n\n\nExplore the online platforms you’ll be using throughout your studies\n\n\n\nPick up some simple setup tips to make your first days smooth and stress-free\n\n\n\n\nKeep an eye on your email—you’ll find a booking link from your SEC\, Curtis Steeves. Be sure to reserve your spot!
URL:https://gateway.trios.com/event/eastern-college-remote-onboarding-42/2026-06-04/
CATEGORIES:Eastern Remote,Student Services Events
ATTACH;FMTTYPE=image/png:https://gateway.trios.com/wp-content/uploads/2025/11/ECR-Onboarding.png
END:VEVENT
BEGIN:VEVENT
DTSTART;TZID=America/New_York:20260603T121500
DTEND;TZID=America/New_York:20260603T124500
DTSTAMP:20260421T213325
CREATED:20260421T190014Z
LAST-MODIFIED:20260421T224913Z
UID:10019753-1780488900-1780490700@gateway.trios.com
SUMMARY:triOS & Eastern Remote Event | Canadian Landmark Trivia
DESCRIPTION:Join us for a fun and interactive event where you can explore Canada’s most iconic landmarks\, historic sites\, and breathtaking natural wonders. Test your knowledge of famous destinations from coast to coast\, enjoy friendly competition\, and celebrate all things Canadian while playing conveniently from wherever you are. \n\n\n\n\nClick to Join via MS Teams
URL:https://gateway.trios.com/event/trios-eastern-remote-event-canadian-landmark-trivia/
CATEGORIES:Eastern Remote,triOS & Eastern Remote,triOS Event,triOS Remote
ATTACH;FMTTYPE=image/png:https://gateway.trios.com/wp-content/uploads/2026/04/Canadian-Landmark-Trivia.png
END:VEVENT
BEGIN:VEVENT
DTSTART;TZID=America/New_York:20260603T103000
DTEND;TZID=America/New_York:20260603T110000
DTSTAMP:20260421T213325
CREATED:20260312T172024Z
LAST-MODIFIED:20260312T172025Z
UID:10018360-1780482600-1780484400@gateway.trios.com
SUMMARY:Massage Matters
DESCRIPTION:A RMT student event
URL:https://gateway.trios.com/event/massage-matters-4/2026-06-03/
END:VEVENT
BEGIN:VEVENT
DTSTART;TZID=America/New_York:20260603T100000
DTEND;TZID=America/New_York:20260603T110000
DTSTAMP:20260421T213325
CREATED:20260324T173537Z
LAST-MODIFIED:20260324T173538Z
UID:10018443-1780480800-1780484400@gateway.trios.com
SUMMARY:Massage Matters
DESCRIPTION:
URL:https://gateway.trios.com/event/massage-matters-12/
END:VEVENT
BEGIN:VEVENT
DTSTART;TZID=America/New_York:20260602T121500
DTEND;TZID=America/New_York:20260602T124500
DTSTAMP:20260421T213325
CREATED:20260421T184826Z
LAST-MODIFIED:20260421T223340Z
UID:10019752-1780402500-1780404300@gateway.trios.com
SUMMARY:triOS & Eastern Remote Event | Around the World Trivia
DESCRIPTION:Join us for an event that takes you on a global adventure without leaving home. Test your knowledge of international cultures\, famous landmarks\, geography\, food\, and traditions while enjoying friendly competition and lively conversation – all in a fun\, interactive online setting. \n\n\n\n\nClick to Join via MS Teams
URL:https://gateway.trios.com/event/trios-eastern-remote-event-around-the-world-trivia/
CATEGORIES:Eastern Remote,triOS & Eastern Remote,triOS Event,triOS Remote
ATTACH;FMTTYPE=image/png:https://gateway.trios.com/wp-content/uploads/2026/04/Around-the-World-Trivia.png
END:VEVENT
BEGIN:VEVENT
DTSTART;TZID=America/New_York:20260601T121500
DTEND;TZID=America/New_York:20260601T124500
DTSTAMP:20260421T213325
CREATED:20260421T183816Z
LAST-MODIFIED:20260421T223422Z
UID:10019751-1780316100-1780317900@gateway.trios.com
SUMMARY:triOS Remote Event | Stay Healthy at School
DESCRIPTION:All triOS and Eastern College students can access Stay Healthy at School Program\, a mental wellness phone line and other valuable resources. This confidential service is available 24/7\, in various languages. \n\n\n\n\nClick to Join via MS Teams
URL:https://gateway.trios.com/event/trios-remote-event-stay-healthy-at-school-4/
CATEGORIES:Mental Health and Wellness,triOS Event,triOS Remote
ATTACH;FMTTYPE=image/png:https://gateway.trios.com/wp-content/uploads/2026/01/Stay-Healthy-at-School.png
END:VEVENT
BEGIN:VEVENT
DTSTART;TZID=America/Halifax:20260601T080000
DTEND;TZID=America/Halifax:20260601T090000
DTSTAMP:20260421T213325
CREATED:20260312T131221Z
LAST-MODIFIED:20260312T131222Z
UID:10018097-1780300800-1780304400@gateway.trios.com
SUMMARY:Eastern College Remote Onboarding
DESCRIPTION:Get Ready for Your First Day of Remote Learning with Eastern College! \n\n\n\nJoin your Student Experience Coordinator (SEC) for a helpful session designed to get you set up for success. \n\n\n\n\nConnect with your classmates and start building your learning community.\n\n\n\nMeet your Student Experience Coordinator\, Curtis Steeves\, who will guide you through the process\n\n\n\nExplore the online platforms you’ll be using throughout your studies\n\n\n\nPick up some simple setup tips to make your first days smooth and stress-free\n\n\n\n\nKeep an eye on your email—you’ll find a booking link from your SEC\, Curtis Steeves. Be sure to reserve your spot!
URL:https://gateway.trios.com/event/eastern-college-remote-onboarding-44/2026-06-01/
CATEGORIES:Eastern Remote,Student Services Events
ATTACH;FMTTYPE=image/png:https://gateway.trios.com/wp-content/uploads/2025/11/ECR-Onboarding.png
END:VEVENT
BEGIN:VEVENT
DTSTART;TZID=America/Halifax:20260529T140000
DTEND;TZID=America/Halifax:20260529T150000
DTSTAMP:20260421T213325
CREATED:20260312T131139Z
LAST-MODIFIED:20260312T131140Z
UID:10017838-1780063200-1780066800@gateway.trios.com
SUMMARY:Eastern College Remote Onboarding
DESCRIPTION:Get Ready for Your First Day of Remote Learning with Eastern College! \n\n\n\nJoin your Student Experience Coordinator (SEC) for a helpful session designed to get you set up for success. \n\n\n\nConnect with your classmates and start building your learning community. \n\n\n\n\nMeet your Student Experience Coordinator\, Curtis Steeves\, who will guide you through the process\n\n\n\nExplore the online platforms you’ll be using throughout your studies\n\n\n\nPick up some simple setup tips to make your first days smooth and stress-free\n\n\n\n\nKeep an eye on your email—you’ll find a booking link from your SEC\, Curtis Steeves. Be sure to reserve your spot!
URL:https://gateway.trios.com/event/eastern-college-remote-onboarding-43/2026-05-29/
CATEGORIES:Eastern Remote,Student Services Events
ATTACH;FMTTYPE=image/png:https://gateway.trios.com/wp-content/uploads/2025/11/ECR-Onboarding.png
END:VEVENT
BEGIN:VEVENT
DTSTART;TZID=America/Toronto:20260528T131500
DTEND;TZID=America/Toronto:20260528T141500
DTSTAMP:20260421T213325
CREATED:20250117T164419Z
LAST-MODIFIED:20250117T171016Z
UID:10003828-1779974100-1779977700@gateway.trios.com
SUMMARY:triOS & Eastern - MS Office Tutoring & Review
DESCRIPTION:Join Farah Shaife (Student Experience Coordinator) to help you with challenges with MS Office modules.
URL:https://gateway.trios.com/event/trios-eastern-ms-office-tutoring-review/2026-05-28/
END:VEVENT
END:VCALENDAR