BEGIN:VCALENDAR
VERSION:2.0
PRODID:-//College Gateway - ECPv6.15.20//NONSGML v1.0//EN
CALSCALE:GREGORIAN
METHOD:PUBLISH
X-WR-CALNAME:College Gateway
X-ORIGINAL-URL:https://gateway.trios.com
X-WR-CALDESC:Events for College Gateway
REFRESH-INTERVAL;VALUE=DURATION:PT1H
X-Robots-Tag:noindex
X-PUBLISHED-TTL:PT1H
BEGIN:VTIMEZONE
TZID:America/Halifax
BEGIN:DAYLIGHT
TZOFFSETFROM:-0400
TZOFFSETTO:-0300
TZNAME:ADT
DTSTART:20240310T060000
END:DAYLIGHT
BEGIN:STANDARD
TZOFFSETFROM:-0300
TZOFFSETTO:-0400
TZNAME:AST
DTSTART:20241103T050000
END:STANDARD
BEGIN:DAYLIGHT
TZOFFSETFROM:-0400
TZOFFSETTO:-0300
TZNAME:ADT
DTSTART:20250309T060000
END:DAYLIGHT
BEGIN:STANDARD
TZOFFSETFROM:-0300
TZOFFSETTO:-0400
TZNAME:AST
DTSTART:20251102T050000
END:STANDARD
BEGIN:DAYLIGHT
TZOFFSETFROM:-0400
TZOFFSETTO:-0300
TZNAME:ADT
DTSTART:20260308T060000
END:DAYLIGHT
BEGIN:STANDARD
TZOFFSETFROM:-0300
TZOFFSETTO:-0400
TZNAME:AST
DTSTART:20261101T050000
END:STANDARD
END:VTIMEZONE
BEGIN:VTIMEZONE
TZID:America/New_York
BEGIN:DAYLIGHT
TZOFFSETFROM:-0500
TZOFFSETTO:-0400
TZNAME:EDT
DTSTART:20240310T070000
END:DAYLIGHT
BEGIN:STANDARD
TZOFFSETFROM:-0400
TZOFFSETTO:-0500
TZNAME:EST
DTSTART:20241103T060000
END:STANDARD
BEGIN:DAYLIGHT
TZOFFSETFROM:-0500
TZOFFSETTO:-0400
TZNAME:EDT
DTSTART:20250309T070000
END:DAYLIGHT
BEGIN:STANDARD
TZOFFSETFROM:-0400
TZOFFSETTO:-0500
TZNAME:EST
DTSTART:20251102T060000
END:STANDARD
BEGIN:DAYLIGHT
TZOFFSETFROM:-0500
TZOFFSETTO:-0400
TZNAME:EDT
DTSTART:20260308T070000
END:DAYLIGHT
BEGIN:STANDARD
TZOFFSETFROM:-0400
TZOFFSETTO:-0500
TZNAME:EST
DTSTART:20261101T060000
END:STANDARD
END:VTIMEZONE
BEGIN:VTIMEZONE
TZID:America/Toronto
BEGIN:DAYLIGHT
TZOFFSETFROM:-0500
TZOFFSETTO:-0400
TZNAME:EDT
DTSTART:20240310T070000
END:DAYLIGHT
BEGIN:STANDARD
TZOFFSETFROM:-0400
TZOFFSETTO:-0500
TZNAME:EST
DTSTART:20241103T060000
END:STANDARD
BEGIN:DAYLIGHT
TZOFFSETFROM:-0500
TZOFFSETTO:-0400
TZNAME:EDT
DTSTART:20250309T070000
END:DAYLIGHT
BEGIN:STANDARD
TZOFFSETFROM:-0400
TZOFFSETTO:-0500
TZNAME:EST
DTSTART:20251102T060000
END:STANDARD
BEGIN:DAYLIGHT
TZOFFSETFROM:-0500
TZOFFSETTO:-0400
TZNAME:EDT
DTSTART:20260308T070000
END:DAYLIGHT
BEGIN:STANDARD
TZOFFSETFROM:-0400
TZOFFSETTO:-0500
TZNAME:EST
DTSTART:20261101T060000
END:STANDARD
END:VTIMEZONE
BEGIN:VEVENT
DTSTART;TZID=America/Halifax:20251030T120000
DTEND;TZID=America/Halifax:20251030T130000
DTSTAMP:20260422T185233
CREATED:20250925T160647Z
LAST-MODIFIED:20250925T160648Z
UID:10008317-1761825600-1761829200@gateway.trios.com
SUMMARY:Eastern College Remote Onboarding
DESCRIPTION:Get Ready for Your First Day of Remote Learning with Eastern College! \n\n\n\nJoin your Student Experience Coordinator (SEC) for a helpful session designed to get you set up for success. \n\n\n\n \n\n\n\n\nConnect with your classmates and start building your learning community.\n\n\n\nMeet your Student Experience Coordinator\, Curtis Steeves\, who will guide you through the process\n\n\n\nExplore the online platforms you’ll be using throughout your studies\n\n\n\nPick up some simple setup tips to make your first days smooth and stress-free\n\n\n\n\n \n\n\n\nKeep an eye on your email—you’ll find a booking link from your SEC\, Curtis Steeves. Be sure to reserve your spot!
URL:https://gateway.trios.com/event/eastern-college-remote-onboarding-9/
CATEGORIES:Eastern Remote,Student Services Events
ATTACH;FMTTYPE=image/png:https://gateway.trios.com/wp-content/uploads/2025/09/ECR-Onboarding.png
END:VEVENT
BEGIN:VEVENT
DTSTART;TZID=America/New_York:20251030T080000
DTEND;TZID=America/New_York:20251030T170000
DTSTAMP:20260422T185233
CREATED:20251007T173814Z
LAST-MODIFIED:20251007T173815Z
UID:10008447-1761811200-1761843600@gateway.trios.com
SUMMARY:MN Theme Day - Crayon Day
DESCRIPTION:Pick a colour and dress in it from head to toe!
URL:https://gateway.trios.com/event/mn-theme-day-crayon-day/
LOCATION:Moncton Campus\, Saint George Boulevard\, Moncton\, NB\, E1E 4K7\, Canada
GEO:46.0804974;-64.8296832
X-APPLE-STRUCTURED-LOCATION;VALUE=URI;X-ADDRESS=Moncton Campus Saint George Boulevard Moncton NB E1E 4K7 Canada;X-APPLE-RADIUS=500;X-TITLE=Saint George Boulevard:geo:-64.8296832,46.0804974
END:VEVENT
BEGIN:VEVENT
DTSTART;TZID=America/Halifax:20251029T121500
DTEND;TZID=America/Halifax:20251029T124500
DTSTAMP:20260422T185233
CREATED:20251020T173615Z
LAST-MODIFIED:20251020T173617Z
UID:10016337-1761740100-1761741900@gateway.trios.com
SUMMARY:Eastern Remote: Meet & Greet
DESCRIPTION:Meet the Team! \n\n\n\nJoin us for a casual Meet & Greet session where you’ll: \n\n\n\n\nGet to know your Admin Team and learn more about the roles we play in supporting you.\n\n\n\nMeet new classmates\, make connections\, and start building your community.\n\n\n\n\nWe’d love to see you there—come say hello and get connected!
URL:https://gateway.trios.com/event/eastern-remote-meet-greet/
ATTACH;FMTTYPE=image/png:https://gateway.trios.com/wp-content/uploads/2025/10/Meet-Greet.png
END:VEVENT
BEGIN:VEVENT
DTSTART;TZID=America/New_York:20251029T120000
DTEND;TZID=America/New_York:20251029T130000
DTSTAMP:20260422T185233
CREATED:20250117T150149Z
LAST-MODIFIED:20250117T150150Z
UID:10003477-1761739200-1761742800@gateway.trios.com
SUMMARY:Monthly Staff Meeting
DESCRIPTION:
URL:https://gateway.trios.com/event/monthly-staff-meeting/2025-10-29/
LOCATION:Halifax Campus\, Mumford Road\, Halifax\, NS\, B3L 0B7\, Canada
GEO:44.6438543;-63.6192166
X-APPLE-STRUCTURED-LOCATION;VALUE=URI;X-ADDRESS=Halifax Campus Mumford Road Halifax NS B3L 0B7 Canada;X-APPLE-RADIUS=500;X-TITLE=Mumford Road:geo:-63.6192166,44.6438543
END:VEVENT
BEGIN:VEVENT
DTSTART;TZID=America/Halifax:20251029T113000
DTEND;TZID=America/Halifax:20251029T120000
DTSTAMP:20260422T185233
CREATED:20250924T192733Z
LAST-MODIFIED:20250924T192734Z
UID:10008233-1761737400-1761739200@gateway.trios.com
SUMMARY:Remote Monthly Assembly
DESCRIPTION:Campus Assembly – Last Wednesday of Every Month!  \n\n\n\n\n\n\n\nJoin us to catch up the latest announcements\, happenings\, and important update\, and be part of the energy that makes our community great. The Monthly Student Assembly is your chance to connect\, get involved\, and have some fun together.
URL:https://gateway.trios.com/event/remote-monthly-assembly/2025-10-29/
CATEGORIES:Eastern Remote
ATTACH;FMTTYPE=image/png:https://gateway.trios.com/wp-content/uploads/2025/09/Remote-Assembly-Banner-1.png
END:VEVENT
BEGIN:VEVENT
DTSTART;TZID=America/New_York:20251029T080000
DTEND;TZID=America/New_York:20251029T170000
DTSTAMP:20260422T185233
CREATED:20251007T173730Z
LAST-MODIFIED:20251007T173730Z
UID:10008446-1761724800-1761757200@gateway.trios.com
SUMMARY:MN Theme Day - Superhero Day
DESCRIPTION:Dress up like your favourite superhero!
URL:https://gateway.trios.com/event/mn-theme-day-superhero-day/
LOCATION:Moncton Campus\, Saint George Boulevard\, Moncton\, NB\, E1E 4K7\, Canada
GEO:46.0804974;-64.8296832
X-APPLE-STRUCTURED-LOCATION;VALUE=URI;X-ADDRESS=Moncton Campus Saint George Boulevard Moncton NB E1E 4K7 Canada;X-APPLE-RADIUS=500;X-TITLE=Saint George Boulevard:geo:-64.8296832,46.0804974
END:VEVENT
BEGIN:VEVENT
DTSTART;TZID=America/New_York:20251028T080000
DTEND;TZID=America/New_York:20251028T170000
DTSTAMP:20260422T185233
CREATED:20251007T173600Z
LAST-MODIFIED:20251007T173600Z
UID:10008444-1761638400-1761670800@gateway.trios.com
SUMMARY:MN Theme Day - TV/Movie Character
DESCRIPTION:Dress up like your favourite character from a TV show or movie!
URL:https://gateway.trios.com/event/mn-theme-day-tv-movie-character/
END:VEVENT
BEGIN:VEVENT
DTSTART;TZID=America/New_York:20251027T093000
DTEND;TZID=America/New_York:20251027T130000
DTSTAMP:20260422T185233
CREATED:20251016T200026Z
LAST-MODIFIED:20251017T144646Z
UID:10008469-1761557400-1761570000@gateway.trios.com
SUMMARY:Pumpkin Decorating
DESCRIPTION:Celebrate the season with a creative twist! Join us in the student lounge for a Pumpkin Decorating Event\, where participants will each receive their own mini pumpkin to decorate. Whether you go spooky\, silly\, or stylish\, it’s all about having fun and showing off your creativity. Pumpkins and decorating materials will be provided – just bring your imagination!
URL:https://gateway.trios.com/event/pumpkin-decorating/
LOCATION:London Campus\, London\, ON\, N5V 3C6\, Canada
GEO:42.9849233;-81.2452768
END:VEVENT
BEGIN:VEVENT
DTSTART;TZID=America/New_York:20251027T080000
DTEND;TZID=America/New_York:20251027T170000
DTSTAMP:20260422T185233
CREATED:20251007T173304Z
LAST-MODIFIED:20251007T173305Z
UID:10008443-1761552000-1761584400@gateway.trios.com
SUMMARY:MN Pumpkin Decorating
DESCRIPTION:Staff get to decorate some pumpkins\, and students will vote on the winner!
URL:https://gateway.trios.com/event/mn-pumpkin-decorating/
END:VEVENT
BEGIN:VEVENT
DTSTART;TZID=America/Toronto:20251023T131500
DTEND;TZID=America/Toronto:20251023T141500
DTSTAMP:20260422T185233
CREATED:20250117T164419Z
LAST-MODIFIED:20250117T171016Z
UID:10003797-1761225300-1761228900@gateway.trios.com
SUMMARY:triOS & Eastern - MS Office Tutoring & Review
DESCRIPTION:Join Farah Shaife (Student Experience Coordinator) to help you with challenges with MS Office modules.
URL:https://gateway.trios.com/event/trios-eastern-ms-office-tutoring-review/2025-10-23/
END:VEVENT
BEGIN:VEVENT
DTSTART;TZID=America/New_York:20251022T130000
DTEND;TZID=America/New_York:20251022T140000
DTSTAMP:20260422T185233
CREATED:20250304T191244Z
LAST-MODIFIED:20250304T191245Z
UID:10004456-1761138000-1761141600@gateway.trios.com
SUMMARY:Toronto Monthly All-Staff Meeting
DESCRIPTION:
URL:https://gateway.trios.com/event/toronto-monthly-all-staff-meeting/2025-10-22/
END:VEVENT
END:VCALENDAR