BEGIN:VCALENDAR
VERSION:2.0
PRODID:-//College Gateway - ECPv6.15.20//NONSGML v1.0//EN
CALSCALE:GREGORIAN
METHOD:PUBLISH
X-WR-CALNAME:College Gateway
X-ORIGINAL-URL:https://gateway.trios.com
X-WR-CALDESC:Events for College Gateway
REFRESH-INTERVAL;VALUE=DURATION:PT1H
X-Robots-Tag:noindex
X-PUBLISHED-TTL:PT1H
BEGIN:VTIMEZONE
TZID:America/New_York
BEGIN:DAYLIGHT
TZOFFSETFROM:-0500
TZOFFSETTO:-0400
TZNAME:EDT
DTSTART:20250309T070000
END:DAYLIGHT
BEGIN:STANDARD
TZOFFSETFROM:-0400
TZOFFSETTO:-0500
TZNAME:EST
DTSTART:20251102T060000
END:STANDARD
BEGIN:DAYLIGHT
TZOFFSETFROM:-0500
TZOFFSETTO:-0400
TZNAME:EDT
DTSTART:20260308T070000
END:DAYLIGHT
BEGIN:STANDARD
TZOFFSETFROM:-0400
TZOFFSETTO:-0500
TZNAME:EST
DTSTART:20261101T060000
END:STANDARD
BEGIN:DAYLIGHT
TZOFFSETFROM:-0500
TZOFFSETTO:-0400
TZNAME:EDT
DTSTART:20270314T070000
END:DAYLIGHT
BEGIN:STANDARD
TZOFFSETFROM:-0400
TZOFFSETTO:-0500
TZNAME:EST
DTSTART:20271107T060000
END:STANDARD
END:VTIMEZONE
BEGIN:VEVENT
DTSTART;TZID=America/New_York:20260312T080000
DTEND;TZID=America/New_York:20260425T170000
DTSTAMP:20260422T014256
CREATED:20260312T131802Z
LAST-MODIFIED:20260312T131803Z
UID:10018349-1773302400-1777136400@gateway.trios.com
SUMMARY:National Hug Your Dog Day
DESCRIPTION:Bring a stuffed animal to share the love and hugs!
URL:https://gateway.trios.com/event/national-hug-your-dog-day/
LOCATION:triOS College Ottawa\, 161 Greenbank Suite #201\, Ottawa\, K2H5V6\, Canada
END:VEVENT
BEGIN:VEVENT
DTSTART;TZID=America/New_York:20260422T100000
DTEND;TZID=America/New_York:20260422T103000
DTSTAMP:20260422T014256
CREATED:20260105T131303Z
LAST-MODIFIED:20260331T185812Z
UID:10016601-1776852000-1776853800@gateway.trios.com
SUMMARY:Moncton Student Assembly and Earth Day
DESCRIPTION:Student Lounge
URL:https://gateway.trios.com/event/moncton-student-assembly-4/
END:VEVENT
BEGIN:VEVENT
DTSTART;TZID=America/New_York:20260422T120000
DTEND;TZID=America/New_York:20260422T130000
DTSTAMP:20260422T014256
CREATED:20260420T130300Z
LAST-MODIFIED:20260420T130301Z
UID:10019156-1776859200-1776862800@gateway.trios.com
SUMMARY:PSW Careers in the Canadian Armed Forces Virtual Information Sessions
DESCRIPTION:Please join us in an exclusive virtual session with Canadian Armed Forces. This session has been specifically organized for Personal Support Worker (PSW) students who are interested in exploring career pathways within the Canadian Armed Forces. \n\n\n\nThe Teams meeting will provide valuable insights into career opportunities\, requirements\, and the role of personal support workers and community care assistants within this esteemed organization.  \n\n\n\nhttps://teams.microsoft.com/meet/272106123313104?p=qSaYIAmsr4DiQbYWHs
URL:https://gateway.trios.com/event/psw-careers-in-the-canadian-armed-forces-virtual-information-sessions/
END:VEVENT
BEGIN:VEVENT
DTSTART;TZID=America/New_York:20260422T120000
DTEND;TZID=America/New_York:20260422T150000
DTSTAMP:20260422T014256
CREATED:20260417T184217Z
LAST-MODIFIED:20260420T180153Z
UID:10019155-1776859200-1776870000@gateway.trios.com
SUMMARY:Career Fair 2026- TriOS Mississauga Campus
DESCRIPTION:
URL:https://gateway.trios.com/event/career-fair-2026/
CATEGORIES:Student Services Events
END:VEVENT
BEGIN:VEVENT
DTSTART;TZID=America/New_York:20260422T121500
DTEND;TZID=America/New_York:20260422T124500
DTSTAMP:20260422T014256
CREATED:20260409T173834Z
LAST-MODIFIED:20260421T211433Z
UID:10019138-1776860100-1776861900@gateway.trios.com
SUMMARY:triOS & Eastern Remote Event | Virtual Escape Room
DESCRIPTION:Step into an exciting virtual escape room where teamwork\, quick thinking\, and creativity are essential to success. Participants will work together to solve challenging puzzles\, uncover hidden clues\, and connect the pieces of the story as the countdown clock ticks away. Collaborate\, communicate\, and think outside the box as you race toward unlocking the final challenge and making your thrilling escape – all from the comfort of your own space. \n\n\n\n\nClick to Join via MS Teams
URL:https://gateway.trios.com/event/trios-eastern-remote-event-virtual-escape-room-5/
CATEGORIES:Eastern Remote,triOS & Eastern Remote,triOS Event,triOS Remote
ATTACH;FMTTYPE=image/png:https://gateway.trios.com/wp-content/uploads/2026/04/Virtual-Escape-Room.png
END:VEVENT
BEGIN:VEVENT
DTSTART;TZID=America/New_York:20260422T130000
DTEND;TZID=America/New_York:20260422T140000
DTSTAMP:20260422T014256
CREATED:20250304T191244Z
LAST-MODIFIED:20250304T191245Z
UID:10004462-1776862800-1776866400@gateway.trios.com
SUMMARY:Toronto Monthly All-Staff Meeting
DESCRIPTION:
URL:https://gateway.trios.com/event/toronto-monthly-all-staff-meeting/2026-04-22/
END:VEVENT
END:VCALENDAR